BEGIN:VCALENDAR
VERSION:2.0
PRODID:-//CBFM Residency Program San Antonio
CALSCALE:GREGORIAN
METHOD:PUBLISH
X-WR-CALNAME:CBFM Residency Program San Antonio
X-ORIGINAL-URL:https://cbfm-tigmer.org/events/in-person-didactics-ultrasound-workshop/
X-WR-CALDESC:In-Person Didactics &#8211; SEPT 15 2022
BEGIN:VEVENT
DTSTART:20220915T130000
DTEND:20220915T170000
SUMMARY:In-Person Didactics &#8211; SEPT 15 2022
DESCRIPTION:
LOCATION:
END:VEVENT
END:VCALENDAR
